Package: h5mread Version: 1.1.1 Command: /home/biocbuild/bbs-3.22-bioc/R/bin/R CMD INSTALL h5mread StartedAt: 2025-07-11 15:32:03 -0400 (Fri, 11 Jul 2025) EndedAt: 2025-07-11 15:32:24 -0400 (Fri, 11 Jul 2025) EllapsedTime: 20.2 seconds RetCode: 0 Status: OK