Package: h5mread Version: 1.1.1 Command: /home/biocbuild/bbs-3.22-bioc/R/bin/R CMD check --install=check:h5mread.install-out.txt --library=/home/biocbuild/bbs-3.22-bioc/R/site-library --timings h5mread_1.1.1.tar.gz StartedAt: 2025-07-13 22:58:03 -0400 (Sun, 13 Jul 2025) EndedAt: 2025-07-13 23:04:41 -0400 (Sun, 13 Jul 2025) EllapsedTime: 398.4 seconds RetCode: 0 Status: WARNINGS CheckDir: h5mread.Rcheck Warnings: 1