Package: h5mread Version: 1.1.1 Command: /Library/Frameworks/R.framework/Resources/bin/R CMD INSTALL h5mread StartedAt: 2025-07-20 15:39:40 -0400 (Sun, 20 Jul 2025) EndedAt: 2025-07-20 15:40:09 -0400 (Sun, 20 Jul 2025) EllapsedTime: 28.9 seconds RetCode: 0 Status: OK