Package: h5mread Version: 1.1.1 Command: /Library/Frameworks/R.framework/Resources/bin/R CMD build --keep-empty-dirs --no-resave-data h5mread StartedAt: 2025-07-20 17:13:28 -0400 (Sun, 20 Jul 2025) EndedAt: 2025-07-20 17:16:56 -0400 (Sun, 20 Jul 2025) EllapsedTime: 207.9 seconds RetCode: 0 Status: OK PackageFile: h5mread_1.1.1.tar.gz PackageFileSize: 2.367 MiB