Package: h5mread Version: 1.1.1 Command: /Library/Frameworks/R.framework/Resources/bin/R CMD check --install=check:h5mread.install-out.txt --library=/Library/Frameworks/R.framework/Resources/library --no-vignettes --timings h5mread_1.1.1.tar.gz StartedAt: 2025-06-30 19:33:29 -0400 (Mon, 30 Jun 2025) EndedAt: 2025-06-30 19:35:07 -0400 (Mon, 30 Jun 2025) EllapsedTime: 98.2 seconds RetCode: 0 Status: WARNINGS CheckDir: h5mread.Rcheck Warnings: 2