Package: gypsum Version: 1.5.0 Command: /home/biocbuild/R/R/bin/R CMD INSTALL gypsum StartedAt: 2025-07-21 20:29:13 -0000 (Mon, 21 Jul 2025) EndedAt: 2025-07-21 20:29:29 -0000 (Mon, 21 Jul 2025) EllapsedTime: 16.6 seconds RetCode: 0 Status: OK