Package: gypsum Version: 1.5.0 Command: /home/biocbuild/R/R/bin/R CMD build --keep-empty-dirs --no-resave-data gypsum StartedAt: 2025-07-22 00:17:28 -0000 (Tue, 22 Jul 2025) EndedAt: 2025-07-22 00:17:40 -0000 (Tue, 22 Jul 2025) EllapsedTime: 12.0 seconds RetCode: 0 Status: OK PackageFile: gypsum_1.5.0.tar.gz PackageFileSize: 298.9 KiB