Package: gypsum Version: 1.5.0 Command: rm -rf gypsum.buildbin-libdir && mkdir gypsum.buildbin-libdir && F:\biocbuild\bbs-3.22-bioc\R\bin\R.exe CMD INSTALL --build --library=gypsum.buildbin-libdir gypsum_1.5.0.tar.gz StartedAt: 2025-07-21 09:12:59 -0400 (Mon, 21 Jul 2025) EndedAt: 2025-07-21 09:13:31 -0400 (Mon, 21 Jul 2025) EllapsedTime: 31.9 seconds RetCode: 0 Status: OK PackageFile: gypsum_1.5.0.zip PackageFileSize: 426.7 KiB