Package: gypsum Version: 1.5.0 Command: /Library/Frameworks/R.framework/Resources/bin/R CMD INSTALL gypsum StartedAt: 2025-07-01 15:04:56 -0400 (Tue, 01 Jul 2025) EndedAt: 2025-07-01 15:05:01 -0400 (Tue, 01 Jul 2025) EllapsedTime: 5.4 seconds RetCode: 0 Status: OK