Package: gypsum Version: 1.5.0 Command: /Library/Frameworks/R.framework/Resources/bin/R CMD check --install=check:gypsum.install-out.txt --library=/Library/Frameworks/R.framework/Resources/library --no-vignettes --timings gypsum_1.5.0.tar.gz StartedAt: 2025-07-01 19:36:01 -0400 (Tue, 01 Jul 2025) EndedAt: 2025-07-01 19:36:33 -0400 (Tue, 01 Jul 2025) EllapsedTime: 31.4 seconds RetCode: 0 Status: OK CheckDir: gypsum.Rcheck Warnings: 0