Package: gwasurvivr Version: 1.27.0 Command: /home/biocbuild/R/R/bin/R CMD INSTALL gwasurvivr StartedAt: 2025-07-14 21:04:20 -0000 (Mon, 14 Jul 2025) EndedAt: 2025-07-14 21:05:18 -0000 (Mon, 14 Jul 2025) EllapsedTime: 57.8 seconds RetCode: 0 Status: OK