Package: gwasurvivr Version: 1.27.0 Command: /home/biocbuild/bbs-3.22-bioc/R/bin/R CMD check --install=check:gwasurvivr.install-out.txt --library=/home/biocbuild/bbs-3.22-bioc/R/site-library --timings gwasurvivr_1.27.0.tar.gz StartedAt: 2025-07-13 22:57:02 -0400 (Sun, 13 Jul 2025) EndedAt: 2025-07-13 23:05:12 -0400 (Sun, 13 Jul 2025) EllapsedTime: 490.5 seconds RetCode: 0 Status: OK CheckDir: gwasurvivr.Rcheck Warnings: 0