Package: gwasurvivr Version: 1.27.0 Command: /Library/Frameworks/R.framework/Resources/bin/R CMD INSTALL gwasurvivr StartedAt: 2025-07-20 15:45:52 -0400 (Sun, 20 Jul 2025) EndedAt: 2025-07-20 15:46:54 -0400 (Sun, 20 Jul 2025) EllapsedTime: 61.3 seconds RetCode: 0 Status: OK