Package: gwasurvivr Version: 1.27.0 Command: /Library/Frameworks/R.framework/Resources/bin/R CMD check --install=check:gwasurvivr.install-out.txt --library=/Library/Frameworks/R.framework/Resources/library --no-vignettes --timings gwasurvivr_1.27.0.tar.gz StartedAt: 2025-07-21 21:12:15 -0400 (Mon, 21 Jul 2025) EndedAt: 2025-07-21 21:19:04 -0400 (Mon, 21 Jul 2025) EllapsedTime: 409.4 seconds RetCode: 0 Status: OK CheckDir: gwasurvivr.Rcheck Warnings: 0