Package: gwasurvivr Version: 1.27.0 Command: /Library/Frameworks/R.framework/Resources/bin/R CMD build --keep-empty-dirs --no-resave-data gwasurvivr StartedAt: 2025-07-20 17:13:12 -0400 (Sun, 20 Jul 2025) EndedAt: 2025-07-20 17:16:00 -0400 (Sun, 20 Jul 2025) EllapsedTime: 167.9 seconds RetCode: 0 Status: OK PackageFile: gwasurvivr_1.27.0.tar.gz PackageFileSize: 342.9 KiB