Package: gwasurvivr Version: 1.27.0 Command: rm -rf gwasurvivr.buildbin-libdir && mkdir gwasurvivr.buildbin-libdir && /Users/biocbuild/BBS/utils/build-universal.sh gwasurvivr_1.27.0.tar.gz /Library/Frameworks/R.framework/Resources/bin/R gwasurvivr.buildbin-libdir StartedAt: 2025-07-21 01:06:30 -0400 (Mon, 21 Jul 2025) EndedAt: 2025-07-21 01:07:36 -0400 (Mon, 21 Jul 2025) EllapsedTime: 65.9 seconds RetCode: 0 Status: OK PackageFile: gwasurvivr_1.27.0.tgz PackageFileSize: 412 KiB