Package: gwascat Version: 2.41.1 Command: /home/biocbuild/R/R/bin/R CMD INSTALL gwascat StartedAt: 2025-07-24 21:48:06 -0000 (Thu, 24 Jul 2025) EndedAt: 2025-07-24 21:49:10 -0000 (Thu, 24 Jul 2025) EllapsedTime: 64.5 seconds RetCode: 0 Status: OK