Package: gwascat Version: 2.41.1 Command: F:\biocbuild\bbs-3.22-bioc\R\bin\R.exe CMD check --no-multiarch --install=check:gwascat.install-out.txt --library=F:\biocbuild\bbs-3.22-bioc\R\library --no-vignettes --timings gwascat_2.41.1.tar.gz StartedAt: 2025-07-15 02:47:20 -0400 (Tue, 15 Jul 2025) EndedAt: 2025-07-15 02:57:37 -0400 (Tue, 15 Jul 2025) EllapsedTime: 617.6 seconds RetCode: 0 Status: OK CheckDir: gwascat.Rcheck Warnings: 0