Package: gwascat Version: 2.41.1 Command: rm -rf gwascat.buildbin-libdir && mkdir gwascat.buildbin-libdir && F:\biocbuild\bbs-3.22-bioc\R\bin\R.exe CMD INSTALL --build --library=gwascat.buildbin-libdir gwascat_2.41.1.tar.gz StartedAt: 2025-07-16 09:03:46 -0400 (Wed, 16 Jul 2025) EndedAt: 2025-07-16 09:05:02 -0400 (Wed, 16 Jul 2025) EllapsedTime: 76.1 seconds RetCode: 0 Status: OK PackageFile: gwascat_2.41.1.zip PackageFileSize: 33.88 MiB