Package: gwascat Version: 2.41.1 Command: /Library/Frameworks/R.framework/Resources/bin/R CMD INSTALL gwascat StartedAt: 2025-07-22 15:34:51 -0400 (Tue, 22 Jul 2025) EndedAt: 2025-07-22 15:36:09 -0400 (Tue, 22 Jul 2025) EllapsedTime: 78.0 seconds RetCode: 0 Status: OK