Package: gwascat Version: 2.41.1 Command: /Library/Frameworks/R.framework/Resources/bin/R CMD build --keep-empty-dirs --no-resave-data gwascat StartedAt: 2025-07-22 17:04:28 -0400 (Tue, 22 Jul 2025) EndedAt: 2025-07-22 17:07:30 -0400 (Tue, 22 Jul 2025) EllapsedTime: 181.8 seconds RetCode: 0 Status: OK PackageFile: gwascat_2.41.1.tar.gz PackageFileSize: 33.78 MiB