Package: gwascat Version: 2.41.1 Command: /Library/Frameworks/R.framework/Resources/bin/R CMD INSTALL gwascat StartedAt: 2025-07-22 15:20:14 -0400 (Tue, 22 Jul 2025) EndedAt: 2025-07-22 15:20:35 -0400 (Tue, 22 Jul 2025) EllapsedTime: 21.2 seconds RetCode: 0 Status: OK