Package: gwascat Version: 2.41.1 Command: rm -rf gwascat.buildbin-libdir && mkdir gwascat.buildbin-libdir && /Users/biocbuild/BBS/utils/build-universal.sh gwascat_2.41.1.tar.gz /Library/Frameworks/R.framework/Resources/bin/R gwascat.buildbin-libdir StartedAt: 2025-07-22 22:27:01 -0400 (Tue, 22 Jul 2025) EndedAt: 2025-07-22 22:27:22 -0400 (Tue, 22 Jul 2025) EllapsedTime: 20.4 seconds RetCode: 0 Status: OK PackageFile: gwascat_2.41.1.tgz PackageFileSize: 34.23 MiB