Package: gtrellis Version: 1.41.0 Command: /home/biocbuild/R/R/bin/R CMD INSTALL gtrellis StartedAt: 2025-06-30 20:31:19 -0000 (Mon, 30 Jun 2025) EndedAt: 2025-06-30 20:31:32 -0000 (Mon, 30 Jun 2025) EllapsedTime: 13.2 seconds RetCode: 0 Status: OK