Package: gtrellis Version: 1.41.0 Command: /home/biocbuild/R/R/bin/R CMD check --install=check:gtrellis.install-out.txt --library=/home/biocbuild/R/R/site-library --no-vignettes --timings gtrellis_1.41.0.tar.gz StartedAt: 2025-07-04 07:51:19 -0000 (Fri, 04 Jul 2025) EndedAt: 2025-07-04 07:54:24 -0000 (Fri, 04 Jul 2025) EllapsedTime: 185.2 seconds RetCode: 0 Status: OK CheckDir: gtrellis.Rcheck Warnings: 0