Package: gtrellis Version: 1.41.0 Command: F:\biocbuild\bbs-3.22-bioc\R\bin\R.exe CMD INSTALL gtrellis StartedAt: 2025-07-14 15:47:40 -0400 (Mon, 14 Jul 2025) EndedAt: 2025-07-14 15:48:04 -0400 (Mon, 14 Jul 2025) EllapsedTime: 23.5 seconds RetCode: 0 Status: OK