Package: gtrellis Version: 1.41.0 Command: chmod a+r gtrellis -R && F:\biocbuild\bbs-3.22-bioc\R\bin\R.exe CMD build --keep-empty-dirs --no-resave-data gtrellis StartedAt: 2025-07-14 19:32:53 -0400 (Mon, 14 Jul 2025) EndedAt: 2025-07-14 19:36:09 -0400 (Mon, 14 Jul 2025) EllapsedTime: 195.8 seconds RetCode: 0 Status: OK PackageFile: gtrellis_1.41.0.tar.gz PackageFileSize: 1.41 MiB