Package: gtrellis Version: 1.41.0 Command: /Library/Frameworks/R.framework/Resources/bin/R CMD INSTALL gtrellis StartedAt: 2025-07-01 15:08:23 -0400 (Tue, 01 Jul 2025) EndedAt: 2025-07-01 15:08:28 -0400 (Tue, 01 Jul 2025) EllapsedTime: 4.8 seconds RetCode: 0 Status: OK