Package: gtrellis Version: 1.41.0 Command: /Library/Frameworks/R.framework/Resources/bin/R CMD check --install=check:gtrellis.install-out.txt --library=/Library/Frameworks/R.framework/Resources/library --no-vignettes --timings gtrellis_1.41.0.tar.gz StartedAt: 2025-07-01 19:35:06 -0400 (Tue, 01 Jul 2025) EndedAt: 2025-07-01 19:35:47 -0400 (Tue, 01 Jul 2025) EllapsedTime: 41.5 seconds RetCode: 0 Status: OK CheckDir: gtrellis.Rcheck Warnings: 0