Package: gtrellis Version: 1.41.0 Command: /Library/Frameworks/R.framework/Resources/bin/R CMD build --keep-empty-dirs --no-resave-data gtrellis StartedAt: 2025-07-01 16:31:58 -0400 (Tue, 01 Jul 2025) EndedAt: 2025-07-01 16:32:51 -0400 (Tue, 01 Jul 2025) EllapsedTime: 52.6 seconds RetCode: 0 Status: OK PackageFile: gtrellis_1.41.0.tar.gz PackageFileSize: 4.036 MiB