Package: gsean Version: 1.29.0 Command: /home/biocbuild/R/R/bin/R CMD check --install=check:gsean.install-out.txt --library=/home/biocbuild/R/R/site-library --no-vignettes --timings gsean_1.29.0.tar.gz StartedAt: 2025-07-01 08:13:15 -0000 (Tue, 01 Jul 2025) EndedAt: 2025-07-01 08:16:51 -0000 (Tue, 01 Jul 2025) EllapsedTime: 215.2 seconds RetCode: 0 Status: OK CheckDir: gsean.Rcheck Warnings: 0