Package: gsean Version: 1.29.0 Command: /home/biocbuild/R/R/bin/R CMD build --keep-empty-dirs --no-resave-data gsean StartedAt: 2025-07-01 00:09:43 -0000 (Tue, 01 Jul 2025) EndedAt: 2025-07-01 00:10:58 -0000 (Tue, 01 Jul 2025) EllapsedTime: 75.1 seconds RetCode: 0 Status: OK PackageFile: gsean_1.29.0.tar.gz PackageFileSize: 2.118 MiB