Package: gsean Version: 1.29.0 Command: /Library/Frameworks/R.framework/Resources/bin/R CMD INSTALL gsean StartedAt: 2025-06-29 15:10:56 -0400 (Sun, 29 Jun 2025) EndedAt: 2025-06-29 15:11:06 -0400 (Sun, 29 Jun 2025) EllapsedTime: 9.7 seconds RetCode: 0 Status: OK