Package: gsean Version: 1.29.0 Command: /Library/Frameworks/R.framework/Resources/bin/R CMD check --install=check:gsean.install-out.txt --library=/Library/Frameworks/R.framework/Resources/library --no-vignettes --timings gsean_1.29.0.tar.gz StartedAt: 2025-06-29 19:35:26 -0400 (Sun, 29 Jun 2025) EndedAt: 2025-06-29 19:36:34 -0400 (Sun, 29 Jun 2025) EllapsedTime: 67.8 seconds RetCode: 0 Status: OK CheckDir: gsean.Rcheck Warnings: 0