Package: gsean Version: 1.29.0 Command: /Library/Frameworks/R.framework/Resources/bin/R CMD build --keep-empty-dirs --no-resave-data gsean StartedAt: 2025-06-29 16:33:08 -0400 (Sun, 29 Jun 2025) EndedAt: 2025-06-29 16:33:34 -0400 (Sun, 29 Jun 2025) EllapsedTime: 26.3 seconds RetCode: 0 Status: OK PackageFile: gsean_1.29.0.tar.gz PackageFileSize: 1.535 MiB