Package: gsean Version: 1.29.0 Command: rm -rf gsean.buildbin-libdir && mkdir gsean.buildbin-libdir && /Users/biocbuild/BBS/utils/build-universal.sh gsean_1.29.0.tar.gz /Library/Frameworks/R.framework/Resources/bin/R gsean.buildbin-libdir StartedAt: 2025-06-29 22:20:36 -0400 (Sun, 29 Jun 2025) EndedAt: 2025-06-29 22:20:47 -0400 (Sun, 29 Jun 2025) EllapsedTime: 11.3 seconds RetCode: 0 Status: OK PackageFile: gsean_1.29.0.tgz PackageFileSize: 1.56 MiB