Package: gscreend Version: 1.23.0 Command: /Library/Frameworks/R.framework/Resources/bin/R CMD check --install=check:gscreend.install-out.txt --library=/Library/Frameworks/R.framework/Resources/library --no-vignettes --timings gscreend_1.23.0.tar.gz StartedAt: 2025-07-11 19:34:38 -0400 (Fri, 11 Jul 2025) EndedAt: 2025-07-11 19:36:18 -0400 (Fri, 11 Jul 2025) EllapsedTime: 100.2 seconds RetCode: 0 Status: OK CheckDir: gscreend.Rcheck Warnings: 0