Package: groHMM Version: 1.43.0 Command: chmod a+r groHMM -R && F:\biocbuild\bbs-3.22-bioc\R\bin\R.exe CMD build --keep-empty-dirs --no-resave-data groHMM StartedAt: 2025-07-24 19:41:47 -0400 (Thu, 24 Jul 2025) EndedAt: 2025-07-24 19:46:53 -0400 (Thu, 24 Jul 2025) EllapsedTime: 306.3 seconds RetCode: 0 Status: OK PackageFile: groHMM_1.43.0.tar.gz PackageFileSize: 4.139 MiB