Package: groHMM Version: 1.43.0 Command: /Library/Frameworks/R.framework/Resources/bin/R CMD INSTALL groHMM StartedAt: 2025-07-07 15:27:09 -0400 (Mon, 07 Jul 2025) EndedAt: 2025-07-07 15:27:54 -0400 (Mon, 07 Jul 2025) EllapsedTime: 45.1 seconds RetCode: 0 Status: OK