Package: groHMM Version: 1.43.0 Command: /Library/Frameworks/R.framework/Resources/bin/R CMD check --install=check:groHMM.install-out.txt --library=/Library/Frameworks/R.framework/Resources/library --no-vignettes --timings groHMM_1.43.0.tar.gz StartedAt: 2025-07-07 21:07:40 -0400 (Mon, 07 Jul 2025) EndedAt: 2025-07-07 21:12:07 -0400 (Mon, 07 Jul 2025) EllapsedTime: 267.7 seconds RetCode: 0 Status: WARNINGS CheckDir: groHMM.Rcheck Warnings: 1