Package: groHMM Version: 1.43.0 Command: /Library/Frameworks/R.framework/Resources/bin/R CMD build --keep-empty-dirs --no-resave-data groHMM StartedAt: 2025-07-07 17:07:30 -0400 (Mon, 07 Jul 2025) EndedAt: 2025-07-07 17:09:55 -0400 (Mon, 07 Jul 2025) EllapsedTime: 144.4 seconds RetCode: 0 Status: OK PackageFile: groHMM_1.43.0.tar.gz PackageFileSize: 4.153 MiB