Package: graphite Version: 1.55.0 Command: chmod a+r graphite -R && F:\biocbuild\bbs-3.22-bioc\R\bin\R.exe CMD build --keep-empty-dirs --no-resave-data graphite StartedAt: 2025-07-01 19:28:44 -0400 (Tue, 01 Jul 2025) EndedAt: 2025-07-01 19:30:19 -0400 (Tue, 01 Jul 2025) EllapsedTime: 95.1 seconds RetCode: 0 Status: OK PackageFile: graphite_1.55.0.tar.gz PackageFileSize: 764.7 KiB