Package: graphite Version: 1.55.0 Command: rm -rf graphite.buildbin-libdir && mkdir graphite.buildbin-libdir && F:\biocbuild\bbs-3.22-bioc\R\bin\R.exe CMD INSTALL --build --library=graphite.buildbin-libdir graphite_1.55.0.tar.gz StartedAt: 2025-07-02 09:01:04 -0400 (Wed, 02 Jul 2025) EndedAt: 2025-07-02 09:01:43 -0400 (Wed, 02 Jul 2025) EllapsedTime: 39.8 seconds RetCode: 0 Status: OK PackageFile: graphite_1.55.0.zip PackageFileSize: 901.3 KiB