Package: graphite Version: 1.55.0 Command: /Library/Frameworks/R.framework/Resources/bin/R CMD check --install=check:graphite.install-out.txt --library=/Library/Frameworks/R.framework/Resources/library --no-vignettes --timings graphite_1.55.0.tar.gz StartedAt: 2025-10-06 22:04:52 -0400 (Mon, 06 Oct 2025) EndedAt: 2025-10-06 22:09:44 -0400 (Mon, 06 Oct 2025) EllapsedTime: 292.2 seconds RetCode: 0 Status: OK CheckDir: graphite.Rcheck Warnings: 0