Package: graper Version: 1.25.2 Command: rm -rf graper.buildbin-libdir && mkdir graper.buildbin-libdir && F:\biocbuild\bbs-3.22-bioc\R\bin\R.exe CMD INSTALL --build --library=graper.buildbin-libdir graper_1.25.2.tar.gz StartedAt: 2025-08-15 10:25:29 -0400 (Fri, 15 Aug 2025) EndedAt: 2025-08-15 10:26:15 -0400 (Fri, 15 Aug 2025) EllapsedTime: 45.9 seconds RetCode: 0 Status: OK PackageFile: graper_1.25.2.zip PackageFileSize: 1.095 MiB