Package: granulator Version: 1.17.0 Command: F:\biocbuild\bbs-3.22-bioc\R\bin\R.exe CMD INSTALL granulator StartedAt: 2025-07-20 16:32:20 -0400 (Sun, 20 Jul 2025) EndedAt: 2025-07-20 16:32:51 -0400 (Sun, 20 Jul 2025) EllapsedTime: 31.5 seconds RetCode: 0 Status: OK