Package: granulator Version: 1.17.0 Command: F:\biocbuild\bbs-3.22-bioc\R\bin\R.exe CMD check --no-multiarch --install=check:granulator.install-out.txt --library=F:\biocbuild\bbs-3.22-bioc\R\library --no-vignettes --timings granulator_1.17.0.tar.gz StartedAt: 2025-07-21 02:46:09 -0400 (Mon, 21 Jul 2025) EndedAt: 2025-07-21 02:54:47 -0400 (Mon, 21 Jul 2025) EllapsedTime: 518.1 seconds RetCode: 0 Status: OK CheckDir: granulator.Rcheck Warnings: 0