Package: granulator Version: 1.17.0 Command: /home/biocbuild/bbs-3.22-bioc/R/bin/R CMD INSTALL granulator StartedAt: 2025-07-07 15:08:59 -0400 (Mon, 07 Jul 2025) EndedAt: 2025-07-07 15:09:09 -0400 (Mon, 07 Jul 2025) EllapsedTime: 10.8 seconds RetCode: 0 Status: OK