Package: granulator Version: 1.17.0 Command: /Library/Frameworks/R.framework/Resources/bin/R CMD build --keep-empty-dirs --no-resave-data granulator StartedAt: 2025-07-07 17:06:46 -0400 (Mon, 07 Jul 2025) EndedAt: 2025-07-07 17:08:59 -0400 (Mon, 07 Jul 2025) EllapsedTime: 133.6 seconds RetCode: 0 Status: OK PackageFile: granulator_1.17.0.tar.gz PackageFileSize: 1.328 MiB