Package: granulator Version: 1.17.0 Command: /Library/Frameworks/R.framework/Resources/bin/R CMD build --keep-empty-dirs --no-resave-data granulator StartedAt: 2025-07-11 16:29:47 -0400 (Fri, 11 Jul 2025) EndedAt: 2025-07-11 16:30:46 -0400 (Fri, 11 Jul 2025) EllapsedTime: 59.7 seconds RetCode: 0 Status: OK PackageFile: granulator_1.17.0.tar.gz PackageFileSize: 1.329 MiB